BEGIN:VCALENDAR
VERSION:2.0
PRODID:-//Tukios.com/
BEGIN:VEVENT
UID:2f168a30-18ee-4965-8202-b571bdddede5@www.henrymmalburg.com
DTSTAMP:20260420T201243Z
DTSTART:20260422T190000Z
DTEND:20260423T000000Z
SUMMARY:Visitation
DESCRIPTION:
URL:https://www.henrymmalburg.com/obituaries/carol-stokes
LOCATION:Henry M. Malburg Funeral Home 11280 32 Mile Road  Romeo MI 48065
GEO:42.8019465;-83.0246546
END:VEVENT
END:VCALENDAR