BEGIN:VCALENDAR
VERSION:2.0
PRODID:-//Tukios.com/
BEGIN:VEVENT
UID:c6d87ba3-c9a8-4fef-88c1-4e6e4d4cbefc@www.henrymmalburg.com
DTSTAMP:20260420T201905Z
DTSTART:20260423T140000Z
DTEND:20260423T150000Z
SUMMARY:Funeral Service
DESCRIPTION:
URL:https://www.henrymmalburg.com/obituaries/carol-stokes
LOCATION:Henry M. Malburg Funeral Home 11280 32 Mile Road  Romeo MI 48065
GEO:42.8019465;-83.0246546
END:VEVENT
END:VCALENDAR